BEGIN:VCALENDAR
VERSION:2.0
PRODID:-//wp-events-plugin.com//7.2.3.1//EN
TZID:Europe/London
X-WR-TIMEZONE:Europe/London
BEGIN:VEVENT
UID:626@vetni.co.uk
DTSTART;TZID=Europe/London:20260430T130000
DTEND;TZID=Europe/London:20260430T170000
DTSTAMP:20260318T164101Z
URL:https://vetni.co.uk/events/yvn-ni-dermatology-workshop-why-are-they-it
 chy/
SUMMARY:YVN NI Dermatology workshop - 'Why are they itchy? '
DESCRIPTION:\n\n'Why are they itchy? Theory and Practical Workshop on inves
 tigating and diagnosing the skin case.'\n\nSPEAKER Aoife Morrow BVCs Cert 
 AVP (Derm) MRCVS\n\n1.00 pm Lunch on arrival\n1.30 pm - 5pm Presentation a
 nd Workshop\n\nEvent is open to all.\n\n* Numbers are very limited *\n\nTh
 e Eventbrite link to book:\n\nWhy are they itchy? VSSCo YVN NI Tickets\, T
 hu 30 Apr 2026 at 12:45 | Eventbrite\n\nKindly sponsored by: 
LOCATION:VSSCo\, Ballinderry Road\, Lisburn\, Northern Ireland
GEO:54.5237048;-6.133012600000029
X-APPLE-STRUCTURED-LOCATION;VALUE=URI;X-ADDRESS=Ballinderry Road\, Lisburn\
 , Northern Ireland;X-APPLE-RADIUS=100;X-TITLE=VSSCo:geo:54.5237048,-6.1330
 12600000029
END:VEVENT
BEGIN:VTIMEZONE
TZID:Europe/London
X-LIC-LOCATION:Europe/London
BEGIN:DAYLIGHT
DTSTART:20260329T020000
TZOFFSETFROM:+0000
TZOFFSETTO:+0100
TZNAME:BST
END:DAYLIGHT
END:VTIMEZONE
END:VCALENDAR