BEGIN:VCALENDAR
VERSION:2.0
PRODID:-//wp-events-plugin.com//7.2.3.1//EN
TZID:Europe/London
X-WR-TIMEZONE:Europe/London
BEGIN:VEVENT
UID:624@vetni.co.uk
DTSTART;TZID=Europe/London:20260520T123000
DTEND;TZID=Europe/London:20260520T220000
DTSTAMP:20260316T085931Z
URL:https://vetni.co.uk/events/nivis-spring-day-out/
SUMMARY:NIVIS Spring Day Out
DESCRIPTION:Society Captain for this year is Shane Murray Braemar Veterina
 ry Clinic. All sponsors should contact Shane to express an interest.\n\nTe
 e off times 12.30pm -14.10pm followed by:\n\n 	Optional freshen up\n 	Drin
 ks\n 	Dinner likely around 8 pm\n 	Prize-giving and any other business\n 	
 10 pm close\n\nGreen Fees (£30) must be paid at the Pro Shop prior to com
 mencing your round except for our sponsors\, for whom the Society will pay
  the green fees.\nEvening meal - there will be the usual range of meals.\n
 Please ensure that all players complete the list in the Pro Shop indicatin
 g their meal choice. The cost of the Evening Meal will be approximately £
 15.95 or Steak £29.95.
LOCATION:Killymoon Golf Club\, 200 Killymoon Road\, Cookstown\, BT80 8TW\, 
 Northern Ireland
GEO:54.6305072;-6.723606600000039
X-APPLE-STRUCTURED-LOCATION;VALUE=URI;X-ADDRESS=200 Killymoon Road\, Cookst
 own\, BT80 8TW\, Northern Ireland;X-APPLE-RADIUS=100;X-TITLE=Killymoon Gol
 f Club:geo:54.6305072,-6.723606600000039
END:VEVENT
BEGIN:VTIMEZONE
TZID:Europe/London
X-LIC-LOCATION:Europe/London
BEGIN:DAYLIGHT
DTSTART:20260329T020000
TZOFFSETFROM:+0000
TZOFFSETTO:+0100
TZNAME:BST
END:DAYLIGHT
END:VTIMEZONE
END:VCALENDAR