BEGIN:VCALENDAR
VERSION:2.0
PRODID:-//wp-events-plugin.com//7.2.3.1//EN
TZID:Europe/London
X-WR-TIMEZONE:Europe/London
BEGIN:VEVENT
UID:619@vetni.co.uk
DTSTART;TZID=Europe/London:20261118T190000
DTEND;TZID=Europe/London:20261118T220000
DTSTAMP:20260304T120702Z
URL:https://vetni.co.uk/events/niva-winter-meeting-data-and-animal-health/
SUMMARY:NIVA Winter Meeting "Data and Animal Health"
DESCRIPTION:\n\nNIVA Winter Meeting "Data and Animal Health"\n\nat T3 Confe
 rence Centre\, House of Vic-Ryn\, Lisburn\n\nMore details to follow.
CATEGORIES:NI Calendar,VET NI Calendar
LOCATION:T3 Conference & Event Centre\, The House of Vic-Ryn\, Moira Road\,
  Lisburn\, Co. Antrim\, BT28 2RF\, United Kingdom
X-APPLE-STRUCTURED-LOCATION;VALUE=URI;X-ADDRESS=The House of Vic-Ryn\, Moir
 a Road\, Lisburn\, Co. Antrim\, BT28 2RF\, United Kingdom;X-APPLE-RADIUS=1
 00;X-TITLE=T3 Conference & Event Centre:geo:0,0
END:VEVENT
BEGIN:VTIMEZONE
TZID:Europe/London
X-LIC-LOCATION:Europe/London
BEGIN:STANDARD
DTSTART:20261025T010000
TZOFFSETFROM:+0100
TZOFFSETTO:+0000
TZNAME:GMT
END:STANDARD
END:VTIMEZONE
END:VCALENDAR