BEGIN:VCALENDAR
VERSION:2.0
PRODID:-//wp-events-plugin.com//7.2.3.1//EN
TZID:Europe/London
X-WR-TIMEZONE:Europe/London
BEGIN:VEVENT
UID:580@vetni.co.uk
DTSTART;TZID=Europe/London:20250924T200000
DTEND;TZID=Europe/London:20250924T213000
DTSTAMP:20250903T230756Z
URL:https://vetni.co.uk/events/niva-webinar-veterinary-leadership-unleashe
 d-no-more-herding-cats/
SUMMARY:NIVA Webinar -  Veterinary Leadership Unleashed - no more herding c
 ats
DESCRIPTION:\nNIVA Webinar:  Veterinary Leadership Unleashed - no more her
 ding cats\n\nwith Lauren Horton\, Veterinary Coach\n\n&nbsp\;\n\n1 HOUR CP
 D\n\n&nbsp\;\nIn this webinar:\nLauren will cover the core competencies fo
 r both new and seasoned leaders within the veterinary profession including
  emotional intelligence\, self-awareness\, delegating and decision making\
 , managing time and prioritising tasks\, creating accountability and deliv
 ering results\, communication and difficult conversations\, and developing
  yourself as a leader.\nLauren will provide an overview of the topics as w
 ell as introducing theories and frameworks that anyone can apply to their 
 work.\nAbout Lauren:\nLauren is a vet\, a chartered manager and a qualifie
 d coach with over a decade of leadership and management experience.\nUsing
  a practical and people focused approach she supports individuals and team
 s to enhance their working relationships\, helping to deliver the best res
 ults they can through the development of effective leadership.\nLeadership
  belongs to everyone! \nThis webinar is for ALL - vets (wherever you work
 )\, nurses\, receptionists &amp\; practice managers\n FREE for NIVA Membe
 rs \n Non Members £20.00 \n&nbsp\;\nRegistration is online and can be 
 accessed by clicking HERE\nor via this QR code\n\n\nYou will receive your 
 ZOOM link via email once registration is complete \nFlyer can be downloade
 d HERE \n\n\n\n&nbsp\;\n\n&nbsp\;
CATEGORIES:NI Calendar,VET NI Calendar
END:VEVENT
BEGIN:VTIMEZONE
TZID:Europe/London
X-LIC-LOCATION:Europe/London
BEGIN:DAYLIGHT
DTSTART:20250330T020000
TZOFFSETFROM:+0000
TZOFFSETTO:+0100
TZNAME:BST
END:DAYLIGHT
END:VTIMEZONE
END:VCALENDAR