BEGIN:VCALENDAR
VERSION:2.0
PRODID:-//wp-events-plugin.com//7.2.3.1//EN
TZID:Europe/London
X-WR-TIMEZONE:Europe/London
BEGIN:VEVENT
UID:491@vetni.co.uk
DTSTART:20230531T193000Z
DTEND:20230531T221500Z
DTSTAMP:20230426T101934Z
URL:https://vetni.co.uk/events/niva-spring-meeting-solving-the-veterinary-
 workforce-crisis-in-ni/
SUMMARY:NIVA Spring Meeting - Solving the veterinary workforce crisis in NI
DESCRIPTION:\n\nSpeaker: Alan Robinson\, VetDynamics\n\nThis event is for v
 ets\, nurses\, employers\, employees - YOUR input is needed!\n\nBe the voi
 ce of change and help to find a solution.\n\n&nbsp\;\n\n[ninja_form id=78]
 \n\n&nbsp\;
CATEGORIES:VET NI Calendar
LOCATION:Seagoe Hotel\, 22 Upper Church Lane\, Portadown\,  BT63 5JE\, Nort
 hern Ireland
GEO:54.4342008;-6.418458999999984
X-APPLE-STRUCTURED-LOCATION;VALUE=URI;X-ADDRESS=22 Upper Church Lane\, Port
 adown\,  BT63 5JE\, Northern Ireland;X-APPLE-RADIUS=100;X-TITLE=Seagoe Hot
 el:geo:54.4342008,-6.418458999999984
END:VEVENT
END:VCALENDAR