BEGIN:VCALENDAR
VERSION:2.0
PRODID:-//wp-events-plugin.com//7.2.3.1//EN
TZID:Europe/London
X-WR-TIMEZONE:Europe/London
BEGIN:VEVENT
UID:618@vetni.co.uk
DTSTART;TZID=Europe/London:20261014T190000
DTEND;TZID=Europe/London:20261014T220000
DTSTAMP:20260304T120336Z
URL:https://vetni.co.uk/events/niva-autumn-meeting-5-nations-approaches-to
 -animal-health/
SUMMARY:NIVA Autumn Meeting "5 Nations Approaches to Animal Health"
DESCRIPTION:\n\n5 Nations Approaches to Animal Health\n\nVenue and more det
 ails to follow.
CATEGORIES:NI Calendar,VET NI Calendar
LOCATION:tbc\, \, 
X-APPLE-STRUCTURED-LOCATION;VALUE=URI;X-ADDRESS=\, ;X-APPLE-RADIUS=100;X-TI
 TLE=tbc:geo:0,0
END:VEVENT
BEGIN:VTIMEZONE
TZID:Europe/London
X-LIC-LOCATION:Europe/London
BEGIN:DAYLIGHT
DTSTART:20260329T020000
TZOFFSETFROM:+0000
TZOFFSETTO:+0100
TZNAME:BST
END:DAYLIGHT
END:VTIMEZONE
END:VCALENDAR