BEGIN:VCALENDAR
VERSION:2.0
PRODID:-//wp-events-plugin.com//7.2.3.1//EN
TZID:Europe/London
X-WR-TIMEZONE:Europe/London
BEGIN:VEVENT
UID:620@vetni.co.uk
DTSTART;TZID=Europe/London:20270203T190000
DTEND;TZID=Europe/London:20270203T220000
DTSTAMP:20260304T120920Z
URL:https://vetni.co.uk/events/niva-agm-2027/
SUMMARY:NIVA AGM 2027
DESCRIPTION:\n\n2027 AGM\n\nVenue and more details to follow
CATEGORIES:NI Calendar,VET NI Calendar
LOCATION:tbc\, \, 
X-APPLE-STRUCTURED-LOCATION;VALUE=URI;X-ADDRESS=\, ;X-APPLE-RADIUS=100;X-TI
 TLE=tbc:geo:0,0
END:VEVENT
BEGIN:VTIMEZONE
TZID:Europe/London
X-LIC-LOCATION:Europe/London
BEGIN:STANDARD
DTSTART:20261025T010000
TZOFFSETFROM:+0100
TZOFFSETTO:+0000
TZNAME:GMT
END:STANDARD
END:VTIMEZONE
END:VCALENDAR