BEGIN:VCALENDAR
VERSION:2.0
PRODID:-//wp-events-plugin.com//7.2.3.1//EN
TZID:Europe/London
X-WR-TIMEZONE:Europe/London
BEGIN:VEVENT
UID:609@vetni.co.uk
DTSTART;TZID=Europe/London:20260304T083000
DTEND;TZID=Europe/London:20260304T173000
DTSTAMP:20260224T161921Z
URL:https://vetni.co.uk/events/imv-basic-bovine-reproductive-ultrasound-co
 urse/
SUMMARY:IMV - Basic Bovine Reproductive Ultrasound Course
DESCRIPTION:\n\nGet MOO-ving - Basic Bovine Reproductive Ultrasound Course\
 n\nSpeaker: John Dawson\n\nFor further details including how to register\,
  please Click HERE\n\n&nbsp\;
LOCATION:Binghams Farm\, 203 Seven Mile Straight \, Nutts Corner\, Crumlin\
 , Antrim \, bt29 4yr\, Northern Ireland \, United Kingdom
GEO:54.6608494;-6.098722899999984
X-APPLE-STRUCTURED-LOCATION;VALUE=URI;X-ADDRESS=203 Seven Mile Straight \, 
 Nutts Corner\, Crumlin\, Antrim \, bt29 4yr\, Northern Ireland \, United K
 ingdom;X-APPLE-RADIUS=100;X-TITLE=Binghams Farm:geo:54.6608494,-6.09872289
 9999984
END:VEVENT
BEGIN:VTIMEZONE
TZID:Europe/London
X-LIC-LOCATION:Europe/London
BEGIN:STANDARD
DTSTART:20251026T010000
TZOFFSETFROM:+0100
TZOFFSETTO:+0000
TZNAME:GMT
END:STANDARD
END:VTIMEZONE
END:VCALENDAR