BEGIN:VCALENDAR
VERSION:2.0
PRODID:-//wp-events-plugin.com//7.2.3.1//EN
TZID:Europe/London
X-WR-TIMEZONE:Europe/London
BEGIN:VEVENT
UID:594@vetni.co.uk
DTSTART;TZID=Europe/London:20260617T133000
DTEND;TZID=Europe/London:20260617T180000
DTSTAMP:20260325T165430Z
URL:https://vetni.co.uk/events/avspni-summer-day-foyle-food-group/
SUMMARY:AVSPNI Summer Day - Foyle Food Group
DESCRIPTION:\n\nPresentation with Farm Tour followed by BBQ.\n\nBoot covers
  and overshoes will be provided\n\nCar parking limited - car sharing encou
 raged\n\nFurther details to follow\n\nKindly sponsored by Norbrook     
  
CATEGORIES:VET NI Calendar
LOCATION:Foyle Food Farm Group\, 60 Killyclogher Road\, cookstown\, BT80 9H
 A\, 
X-APPLE-STRUCTURED-LOCATION;VALUE=URI;X-ADDRESS=60 Killyclogher Road\, cook
 stown\, BT80 9HA\, ;X-APPLE-RADIUS=100;X-TITLE=Foyle Food Farm Group:geo:0
 ,0
END:VEVENT
BEGIN:VTIMEZONE
TZID:Europe/London
X-LIC-LOCATION:Europe/London
BEGIN:DAYLIGHT
DTSTART:20260329T020000
TZOFFSETFROM:+0000
TZOFFSETTO:+0100
TZNAME:BST
END:DAYLIGHT
END:VTIMEZONE
END:VCALENDAR