BEGIN:VCALENDAR
VERSION:2.0
PRODID:-//wp-events-plugin.com//7.2.3.1//EN
TZID:Europe/London
X-WR-TIMEZONE:Europe/London
BEGIN:VEVENT
UID:603@vetni.co.uk
DTSTART;TZID=Europe/London:20261001T200000
DTEND;TZID=Europe/London:20261001T220000
DTSTAMP:20260224T123024Z
URL:https://vetni.co.uk/events/avspni-small-animal-evening-webinar-endrocr
 ine-emergencies/
SUMMARY:AVSPNI Small Animal Evening Webinar - 1.	Endo emergencies incl DKA 
 and Addisonian crisis
DESCRIPTION:\n\nSpeaker: Dr Yvonne McGrotty\n\nFurther details to follow.
CATEGORIES:NI Calendar,VET NI Calendar
END:VEVENT
BEGIN:VTIMEZONE
TZID:Europe/London
X-LIC-LOCATION:Europe/London
BEGIN:DAYLIGHT
DTSTART:20260329T020000
TZOFFSETFROM:+0000
TZOFFSETTO:+0100
TZNAME:BST
END:DAYLIGHT
END:VTIMEZONE
END:VCALENDAR