BEGIN:VCALENDAR
VERSION:2.0
PRODID:-//wp-events-plugin.com//7.2.3.1//EN
TZID:Europe/London
X-WR-TIMEZONE:Europe/London
BEGIN:VEVENT
UID:606@vetni.co.uk
DTSTART;TZID=Europe/London:20260903T190000
DTEND;TZID=Europe/London:20260903T220000
DTSTAMP:20260224T145108Z
URL:https://vetni.co.uk/events/avspni-small-animal-evening-meeting-whats-n
 ew-in-hypothyroidism-dont-make-them-hypo/
SUMMARY:AVSPNI Small Animal Evening Meeting - “What’s new in hyperthyro
 idism – don’t make them hypo! “
DESCRIPTION:\n\nSpeaker: Dr Rebecca Littler Perry\n\nFurther details to fol
 low:
LOCATION:VSSCo\, Ballinderry Road\, Lisburn\, Northern Ireland
GEO:54.5237048;-6.133012600000029
X-APPLE-STRUCTURED-LOCATION;VALUE=URI;X-ADDRESS=Ballinderry Road\, Lisburn\
 , Northern Ireland;X-APPLE-RADIUS=100;X-TITLE=VSSCo:geo:54.5237048,-6.1330
 12600000029
END:VEVENT
BEGIN:VTIMEZONE
TZID:Europe/London
X-LIC-LOCATION:Europe/London
BEGIN:DAYLIGHT
DTSTART:20260329T020000
TZOFFSETFROM:+0000
TZOFFSETTO:+0100
TZNAME:BST
END:DAYLIGHT
END:VTIMEZONE
END:VCALENDAR