BEGIN:VCALENDAR
VERSION:2.0
PRODID:-//wp-events-plugin.com//7.2.3.1//EN
TZID:Europe/London
X-WR-TIMEZONE:Europe/London
BEGIN:VEVENT
UID:600@vetni.co.uk
DTSTART;TZID=Europe/London:20270204T200000
DTEND;TZID=Europe/London:20270204T213000
DTSTAMP:20260129T122520Z
URL:https://vetni.co.uk/events/avspni-sa-evening-webinar-top-tips-for-unbl
 ocking-a-blocked-cat/
SUMMARY:AVSPNI SA Evening Webinar - "Top tips for unblocking a blocked cat"
DESCRIPTION:\n\nAn online event\, free to AVSPNI members.\n\nFull details t
 o follow in due course.\n\nSpeaker:  Martha Cannon
CATEGORIES:VET NI Calendar
END:VEVENT
BEGIN:VTIMEZONE
TZID:Europe/London
X-LIC-LOCATION:Europe/London
BEGIN:STANDARD
DTSTART:20261025T010000
TZOFFSETFROM:+0100
TZOFFSETTO:+0000
TZNAME:GMT
END:STANDARD
END:VTIMEZONE
END:VCALENDAR