BEGIN:VCALENDAR
VERSION:2.0
PRODID:-//wp-events-plugin.com//7.2.3.1//EN
TZID:Europe/London
X-WR-TIMEZONE:Europe/London
BEGIN:VEVENT
UID:589@vetni.co.uk
DTSTART;TZID=Europe/London;VALUE=DATE:20261023
DTEND;TZID=Europe/London;VALUE=DATE:20261026
DTSTAMP:20260112T225252Z
URL:https://vetni.co.uk/events/avspni-autumn-conference-2026-save-the-date
 /
SUMMARY:AVSPNI Autumn Conference 2026 - Save the Date
DESCRIPTION:\n\nFurther details to follow
CATEGORIES:VET NI Calendar
LOCATION:Lough Erne Resort\, 193 Lough Shore Road\, Enniskillen\, Co. Ferma
 nagh\, BT93 7ED\, United Kingdom
X-APPLE-STRUCTURED-LOCATION;VALUE=URI;X-ADDRESS=193 Lough Shore Road\, Enni
 skillen\, Co. Fermanagh\, BT93 7ED\, United Kingdom;X-APPLE-RADIUS=100;X-T
 ITLE=Lough Erne Resort:geo:0,0
END:VEVENT
BEGIN:VTIMEZONE
TZID:Europe/London
X-LIC-LOCATION:Europe/London
BEGIN:DAYLIGHT
DTSTART:20260329T020000
TZOFFSETFROM:+0000
TZOFFSETTO:+0100
TZNAME:BST
END:DAYLIGHT
BEGIN:STANDARD
DTSTART:20261025T010000
TZOFFSETFROM:+0100
TZOFFSETTO:+0000
TZNAME:GMT
END:STANDARD
END:VTIMEZONE
END:VCALENDAR